BEGIN:VCALENDAR
VERSION:2.0
PRODID:-//Prée-d&#039;Anjou - ECPv6.6.4//NONSGML v1.0//EN
CALSCALE:GREGORIAN
METHOD:PUBLISH
X-WR-CALNAME:Prée-d&#039;Anjou
X-ORIGINAL-URL:https://preedanjou.fr
X-WR-CALDESC:évènements pour Prée-d&#039;Anjou
REFRESH-INTERVAL;VALUE=DURATION:PT1H
X-Robots-Tag:noindex
X-PUBLISHED-TTL:PT1H
BEGIN:VTIMEZONE
TZID:Europe/Paris
BEGIN:DAYLIGHT
TZOFFSETFROM:+0100
TZOFFSETTO:+0200
TZNAME:CEST
DTSTART:20250330T010000
END:DAYLIGHT
BEGIN:STANDARD
TZOFFSETFROM:+0200
TZOFFSETTO:+0100
TZNAME:CET
DTSTART:20251026T010000
END:STANDARD
BEGIN:DAYLIGHT
TZOFFSETFROM:+0100
TZOFFSETTO:+0200
TZNAME:CEST
DTSTART:20260329T010000
END:DAYLIGHT
BEGIN:STANDARD
TZOFFSETFROM:+0200
TZOFFSETTO:+0100
TZNAME:CET
DTSTART:20261025T010000
END:STANDARD
END:VTIMEZONE
BEGIN:VEVENT
DTSTART;TZID=Europe/Paris:20251103T080000
DTEND;TZID=Europe/Paris:20261003T170000
DTSTAMP:20260423T015034
CREATED:20251103T145758Z
LAST-MODIFIED:20251103T145758Z
UID:23035-1762156800-1791046800@preedanjou.fr
SUMMARY:INDISPONIBLE POUR TRAVAUX
DESCRIPTION:
URL:https://preedanjou.fr/calendrier/indisponible-pour-travaux/
LOCATION:SALLE DES FETES DE LAIGNÉ
CATEGORIES:Salle des fêtes de Laigné
END:VEVENT
BEGIN:VEVENT
DTSTART;TZID=Europe/Paris:20260423T080000
DTEND;TZID=Europe/Paris:20260423T170000
DTSTAMP:20260423T015034
CREATED:20260323T160036Z
LAST-MODIFIED:20260323T160036Z
UID:23714-1776931200-1776963600@preedanjou.fr
SUMMARY:Réunion Conseil Municipal
DESCRIPTION:
URL:https://preedanjou.fr/calendrier/reunion-conseil-municipal-3/
LOCATION:Salle batiment multifonctions\, 2A rue du Stade - Ampoigné\, PRÉE-d'ANJOU\, 53200\, France
CATEGORIES:Salle bâtiment multifonctions
END:VEVENT
BEGIN:VEVENT
DTSTART;TZID=Europe/Paris:20260423T193000
DTEND;TZID=Europe/Paris:20260423T210000
DTSTAMP:20260423T015034
CREATED:20250303T151907Z
LAST-MODIFIED:20250722T141512Z
UID:21877-1776972600-1776978000@preedanjou.fr
SUMMARY:COURS DANSE JEUDI BM
DESCRIPTION:
URL:https://preedanjou.fr/calendrier/cours-danse-vendredi-bm-2/2026-04-23/
LOCATION:Salle batiment multifonctions\, 2A rue du Stade - Ampoigné\, PRÉE-d'ANJOU\, 53200\, France
CATEGORIES:Salle bâtiment multifonctions
END:VEVENT
BEGIN:VEVENT
DTSTART;TZID=Europe/Paris:20260423T200000
DTEND;TZID=Europe/Paris:20260423T220000
DTSTAMP:20260423T015034
CREATED:20260123T132617Z
LAST-MODIFIED:20260123T132617Z
UID:23416-1776974400-1776981600@preedanjou.fr
SUMMARY:COURS GYM
DESCRIPTION:
URL:https://preedanjou.fr/calendrier/cours-gym/2026-04-23/
LOCATION:SALLE DES SPORTS LAIGNÉ
CATEGORIES:Salle des Sports de Laigné
END:VEVENT
END:VCALENDAR